BEGIN:VCALENDAR
VERSION:2.0
PRODID:-//eventon.com NONSGML v1.0//EN
CALSCALE:GREGORIAN
METHOD:PUBLISH
BEGIN:VEVENT
UID:69e8a43feb62d
DTSTAMP:20260422T103439Z
DTSTART:20260421T000000Z
DTEND:20260421T003000Z
LOCATION:
SUMMARY:Ciencia Libre
DESCRIPTION:Ciencia Libre\nhttps://tvtenlinea.mx/events/ciencia-libre/
URL:https://tvtenlinea.mx/events/ciencia-libre/
END:VEVENT
END:VCALENDAR