BEGIN:VCALENDAR
VERSION:2.0
PRODID:-//eventon.com NONSGML v1.0//EN
CALSCALE:GREGORIAN
METHOD:PUBLISH
BEGIN:VEVENT
UID:69e74a12c0258
DTSTAMP:20260421T095738Z
DTSTART:20251005T020000Z
DTEND:20251005T030000Z
LOCATION:
SUMMARY:Ahora que si nos ven
DESCRIPTION:&nbsp;\nhttps://tvtenlinea.mx/events/que-es-ser-mujer-ahora-que
 -si-nos-ven/
URL:https://tvtenlinea.mx/events/que-es-ser-mujer-ahora-que-si-nos-ven/
END:VEVENT
END:VCALENDAR